Name | Last modified | Size | Description | |
---|---|---|---|---|
Parent Directory | - | |||
install-summary.dcf | 17-Oct-2023 00:35 | 272 | ||
buildsrc-summary.dcf | 17-Oct-2023 00:35 | 437 | ||
checksrc-summary.dcf | 17-Oct-2023 00:35 | 440 | ||
buildsrc-out.txt | 17-Oct-2023 00:35 | 928 | ||
install-out.txt | 17-Oct-2023 00:35 | 1.1K | ||
checksrc-out.txt | 17-Oct-2023 00:35 | 3.9K | ||