Name | Last modified | Size | Description | |
---|---|---|---|---|
Parent Directory | - | |||
install-summary.dcf | 17-Oct-2023 00:37 | 283 | ||
buildsrc-summary.dcf | 17-Oct-2023 00:37 | 447 | ||
checksrc-summary.dcf | 17-Oct-2023 00:37 | 470 | ||
buildbin-summary.dcf | 17-Oct-2023 00:37 | 569 | ||
buildsrc-out.txt | 17-Oct-2023 00:37 | 938 | ||
install-out.txt | 17-Oct-2023 00:37 | 1.1K | ||
buildbin-out.txt | 17-Oct-2023 00:37 | 1.4K | ||
checksrc-out.txt | 17-Oct-2023 00:37 | 4.2K | ||