Name | Last modified | Size | Description | |
---|---|---|---|---|
Parent Directory | - | |||
buildbin-out.txt | 17-Oct-2023 00:37 | 5.1K | ||
buildbin-summary.dcf | 17-Oct-2023 00:37 | 591 | ||
buildsrc-out.txt | 17-Oct-2023 00:37 | 926 | ||
buildsrc-summary.dcf | 17-Oct-2023 00:37 | 458 | ||
checksrc-out.txt | 17-Oct-2023 00:37 | 3.7K | ||
checksrc-summary.dcf | 17-Oct-2023 00:37 | 484 | ||
install-out.txt | 17-Oct-2023 00:37 | 2.8K | ||
install-summary.dcf | 17-Oct-2023 00:37 | 289 | ||