Name | Last modified | Size | Description | |
---|---|---|---|---|
Parent Directory | - | |||
buildsrc-out.txt | 17-Oct-2023 00:35 | 1.4K | ||
buildsrc-summary.dcf | 17-Oct-2023 00:35 | 411 | ||
checksrc-out.txt | 17-Oct-2023 00:35 | 5.2K | ||
checksrc-summary.dcf | 17-Oct-2023 00:35 | 406 | ||
install-out.txt | 17-Oct-2023 00:35 | 954 | ||
install-summary.dcf | 17-Oct-2023 00:35 | 255 | ||