Name | Last modified | Size | Description | |
---|---|---|---|---|
Parent Directory | - | |||
buildbin-out.txt | 17-Oct-2023 00:36 | 14K | ||
buildbin-summary.dcf | 17-Oct-2023 00:36 | 521 | ||
buildsrc-out.txt | 17-Oct-2023 00:36 | 969 | ||
buildsrc-summary.dcf | 17-Oct-2023 00:36 | 457 | ||
checksrc-out.txt | 17-Oct-2023 00:36 | 5.8K | ||
checksrc-summary.dcf | 17-Oct-2023 00:36 | 456 | ||
install-out.txt | 17-Oct-2023 00:36 | 13K | ||
install-summary.dcf | 17-Oct-2023 00:36 | 270 | ||