Name | Last modified | Size | Description | |
---|---|---|---|---|
Parent Directory | - | |||
buildsrc-out.txt | 17-Oct-2023 00:35 | 935 | ||
buildsrc-summary.dcf | 17-Oct-2023 00:35 | 419 | ||
checksrc-out.txt | 17-Oct-2023 00:35 | 5.3K | ||
checksrc-summary.dcf | 17-Oct-2023 00:35 | 424 | ||
install-out.txt | 17-Oct-2023 00:35 | 12K | ||
install-summary.dcf | 17-Oct-2023 00:35 | 261 | ||