Name | Last modified | Size | Description | |
---|---|---|---|---|
Parent Directory | - | |||
buildbin-out.txt | 17-Oct-2023 00:37 | 11K | ||
buildbin-summary.dcf | 17-Oct-2023 00:37 | 536 | ||
buildsrc-out.txt | 17-Oct-2023 00:37 | 945 | ||
buildsrc-summary.dcf | 17-Oct-2023 00:37 | 431 | ||
checksrc-out.txt | 17-Oct-2023 00:37 | 4.8K | ||
checksrc-summary.dcf | 17-Oct-2023 00:37 | 454 | ||
install-out.txt | 17-Oct-2023 00:37 | 8.5K | ||
install-summary.dcf | 17-Oct-2023 00:37 | 271 | ||