Index of /checkResults/3.17/bioc-LATEST/snapCGH/raw-results

[ICO]NameLast modifiedSizeDescription

[DIR]Parent Directory  -  
[   ]info.dcf09-Jun-2023 00:07 268  
[DIR]merida1/09-Jun-2023 00:07 -  
[DIR]nebbiolo1/09-Jun-2023 00:05 -  
[DIR]palomino3/09-Jun-2023 00:06 -