Name | Last modified | Size | Description | |
---|---|---|---|---|
Parent Directory | - | |||
checksrc-out.txt | 17-Oct-2023 00:37 | 4.8K | ||
buildbin-out.txt | 17-Oct-2023 00:37 | 1.4K | ||
install-out.txt | 17-Oct-2023 00:37 | 1.3K | ||
buildsrc-out.txt | 17-Oct-2023 00:37 | 1.1K | ||
buildbin-summary.dcf | 17-Oct-2023 00:37 | 542 | ||
checksrc-summary.dcf | 17-Oct-2023 00:37 | 452 | ||
buildsrc-summary.dcf | 17-Oct-2023 00:37 | 434 | ||
install-summary.dcf | 17-Oct-2023 00:37 | 273 | ||