Name | Last modified | Size | Description | |
---|---|---|---|---|
Parent Directory | - | |||
buildbin-summary.dcf | 17-Oct-2023 00:36 | 533 | ||
buildbin-out.txt | 17-Oct-2023 00:36 | 1.1K | ||
checksrc-summary.dcf | 17-Oct-2023 00:36 | 459 | ||
checksrc-out.txt | 17-Oct-2023 00:36 | 3.3K | ||
buildsrc-summary.dcf | 17-Oct-2023 00:36 | 464 | ||
buildsrc-out.txt | 17-Oct-2023 00:36 | 854 | ||
install-summary.dcf | 17-Oct-2023 00:36 | 274 | ||
install-out.txt | 17-Oct-2023 00:36 | 1.0K | ||