![]() | Name | Last modified | Size | Description |
---|---|---|---|---|
![]() | Parent Directory | - | ||
![]() | buildsrc-out.txt | 26-Sep-2023 00:35 | 818 | |
![]() | buildsrc-summary.dcf | 26-Sep-2023 00:35 | 426 | |
![]() | checksrc-out.txt | 26-Sep-2023 00:35 | 3.4K | |
![]() | checksrc-summary.dcf | 26-Sep-2023 00:35 | 426 | |
![]() | install-out.txt | 26-Sep-2023 00:35 | 1.0K | |
![]() | install-summary.dcf | 26-Sep-2023 00:35 | 265 | |