Index of /checkResults/3.17/bioc-LATEST/sigFeature/raw-results
Name
Last modified
Size
Description
Parent Directory
-
info.dcf
03-Oct-2023 00:37
283
palomino3/
03-Oct-2023 00:36
-
nebbiolo1/
03-Oct-2023 00:36
-
merida1/
03-Oct-2023 00:37
-