Name | Last modified | Size | Description | |
---|---|---|---|---|
Parent Directory | - | |||
install-summary.dcf | 17-Oct-2023 00:35 | 255 | ||
checksrc-summary.dcf | 17-Oct-2023 00:35 | 406 | ||
buildsrc-summary.dcf | 17-Oct-2023 00:35 | 412 | ||
buildsrc-out.txt | 17-Oct-2023 00:35 | 861 | ||
install-out.txt | 17-Oct-2023 00:35 | 954 | ||
checksrc-out.txt | 17-Oct-2023 00:35 | 5.9K | ||