Name | Last modified | Size | Description | |
---|---|---|---|---|
Parent Directory | - | |||
buildbin-out.txt | 22-Dec-2022 01:10 | 107K | ||
buildbin-summary.dcf | 22-Dec-2022 01:10 | 522 | ||
buildsrc-out.txt | 17-Oct-2023 00:37 | 665 | ||
buildsrc-summary.dcf | 17-Oct-2023 00:37 | 347 | ||
checksrc-out.txt | 22-Dec-2022 01:10 | 29K | ||
checksrc-summary.dcf | 22-Dec-2022 01:10 | 443 | ||
install-out.txt | 17-Oct-2023 00:37 | 212K | ||
install-summary.dcf | 17-Oct-2023 00:37 | 267 | ||