Name | Last modified | Size | Description | |
---|---|---|---|---|
Parent Directory | - | |||
install-summary.dcf | 17-Oct-2023 00:37 | 270 | ||
buildsrc-summary.dcf | 17-Oct-2023 00:37 | 429 | ||
checksrc-summary.dcf | 17-Oct-2023 00:37 | 446 | ||
buildbin-summary.dcf | 17-Oct-2023 00:37 | 533 | ||
buildsrc-out.txt | 17-Oct-2023 00:37 | 882 | ||
install-out.txt | 17-Oct-2023 00:37 | 1.0K | ||
buildbin-out.txt | 17-Oct-2023 00:37 | 1.2K | ||
checksrc-out.txt | 17-Oct-2023 00:37 | 3.7K | ||