Name | Last modified | Size | Description | |
---|---|---|---|---|
Parent Directory | - | |||
install-summary.dcf | 17-Oct-2023 00:37 | 278 | ||
install-out.txt | 17-Oct-2023 00:37 | 137K | ||
checksrc-summary.dcf | 17-Oct-2023 00:37 | 466 | ||
checksrc-out.txt | 17-Oct-2023 00:37 | 18K | ||
buildsrc-summary.dcf | 17-Oct-2023 00:37 | 440 | ||
buildsrc-out.txt | 17-Oct-2023 00:37 | 1.2K | ||
buildbin-summary.dcf | 17-Oct-2023 00:37 | 555 | ||
buildbin-out.txt | 17-Oct-2023 00:37 | 139K | ||