Index of /checkResults/3.17/bioc-LATEST/rsbml/raw-results

[ICO]NameLast modifiedSizeDescription

[DIR]Parent Directory  -  
[   ]info.dcf24-Sep-2023 00:36 268  
[DIR]nebbiolo1/24-Sep-2023 00:35 -  
[DIR]palomino3/24-Sep-2023 00:36 -