Name | Last modified | Size | Description | |
---|---|---|---|---|
Parent Directory | - | |||
install-summary.dcf | 17-Oct-2023 00:37 | 263 | ||
install-out.txt | 17-Oct-2023 00:37 | 1.1K | ||
checksrc-summary.dcf | 17-Oct-2023 00:37 | 437 | ||
checksrc-out.txt | 17-Oct-2023 00:37 | 4.6K | ||
buildsrc-summary.dcf | 17-Oct-2023 00:37 | 417 | ||
buildsrc-out.txt | 17-Oct-2023 00:37 | 962 | ||
buildbin-summary.dcf | 17-Oct-2023 00:37 | 510 | ||
buildbin-out.txt | 17-Oct-2023 00:37 | 1.3K | ||