Name | Last modified | Size | Description | |
---|---|---|---|---|
Parent Directory | - | |||
install-summary.dcf | 17-Oct-2023 00:35 | 269 | ||
buildsrc-summary.dcf | 17-Oct-2023 00:35 | 431 | ||
checksrc-summary.dcf | 17-Oct-2023 00:35 | 433 | ||
buildsrc-out.txt | 17-Oct-2023 00:35 | 904 | ||
checksrc-out.txt | 17-Oct-2023 00:35 | 4.1K | ||
install-out.txt | 17-Oct-2023 00:35 | 15K | ||