Name | Last modified | Size | Description | |
---|---|---|---|---|
Parent Directory | - | |||
install-out.txt | 17-Oct-2023 00:36 | 1.2K | ||
install-summary.dcf | 17-Oct-2023 00:36 | 267 | ||
buildsrc-out.txt | 17-Oct-2023 00:36 | 894 | ||
buildsrc-summary.dcf | 17-Oct-2023 00:36 | 449 | ||
checksrc-out.txt | 17-Oct-2023 00:36 | 3.8K | ||
checksrc-summary.dcf | 17-Oct-2023 00:36 | 443 | ||
buildbin-out.txt | 17-Oct-2023 00:36 | 1.3K | ||
buildbin-summary.dcf | 17-Oct-2023 00:36 | 510 | ||