Name | Last modified | Size | Description | |
---|---|---|---|---|
Parent Directory | - | |||
install-summary.dcf | 17-Oct-2023 00:37 | 268 | ||
install-out.txt | 17-Oct-2023 00:37 | 1.2K | ||
checksrc-summary.dcf | 17-Oct-2023 00:37 | 441 | ||
checksrc-out.txt | 17-Oct-2023 00:37 | 4.0K | ||
buildsrc-summary.dcf | 17-Oct-2023 00:37 | 423 | ||
buildsrc-out.txt | 17-Oct-2023 00:37 | 875 | ||
buildbin-summary.dcf | 17-Oct-2023 00:37 | 525 | ||
buildbin-out.txt | 17-Oct-2023 00:37 | 1.4K | ||