Name | Last modified | Size | Description | |
---|---|---|---|---|
Parent Directory | - | |||
checksrc-out.txt | 29-Jul-2023 00:36 | 3.6K | ||
checksrc-summary.dcf | 29-Jul-2023 00:36 | 440 | ||
buildbin-out.txt | 29-Jul-2023 00:36 | 1.0K | ||
buildbin-summary.dcf | 29-Jul-2023 00:36 | 504 | ||
install-out.txt | 17-Oct-2023 00:36 | 956 | ||
install-summary.dcf | 17-Oct-2023 00:36 | 265 | ||
buildsrc-out.txt | 17-Oct-2023 00:36 | 1.4K | ||
buildsrc-summary.dcf | 17-Oct-2023 00:36 | 363 | ||