Name | Last modified | Size | Description | |
---|---|---|---|---|
Parent Directory | - | |||
checksrc-out.txt | 07-Oct-2023 00:35 | 2.2K | ||
checksrc-summary.dcf | 07-Oct-2023 00:35 | 409 | ||
install-out.txt | 17-Oct-2023 00:35 | 946 | ||
install-summary.dcf | 17-Oct-2023 00:35 | 256 | ||
buildsrc-out.txt | 17-Oct-2023 00:35 | 1.0K | ||
buildsrc-summary.dcf | 17-Oct-2023 00:35 | 330 | ||