Name | Last modified | Size | Description | |
---|---|---|---|---|
Parent Directory | - | |||
buildbin-out.txt | 17-Oct-2023 00:36 | 1.0K | ||
buildbin-summary.dcf | 17-Oct-2023 00:36 | 499 | ||
buildsrc-out.txt | 17-Oct-2023 00:36 | 828 | ||
buildsrc-summary.dcf | 17-Oct-2023 00:36 | 442 | ||
checksrc-out.txt | 17-Oct-2023 00:36 | 3.3K | ||
checksrc-summary.dcf | 17-Oct-2023 00:36 | 437 | ||
install-out.txt | 17-Oct-2023 00:36 | 956 | ||
install-summary.dcf | 17-Oct-2023 00:36 | 263 | ||