Name | Last modified | Size | Description | |
---|---|---|---|---|
Parent Directory | - | |||
install-summary.dcf | 17-Oct-2023 00:36 | 266 | ||
install-out.txt | 17-Oct-2023 00:36 | 1.5K | ||
checksrc-summary.dcf | 17-Oct-2023 00:36 | 443 | ||
checksrc-out.txt | 17-Oct-2023 00:36 | 3.9K | ||
buildsrc-summary.dcf | 17-Oct-2023 00:36 | 449 | ||
buildsrc-out.txt | 17-Oct-2023 00:36 | 866 | ||
buildbin-summary.dcf | 17-Oct-2023 00:36 | 509 | ||
buildbin-out.txt | 17-Oct-2023 00:36 | 1.6K | ||