Index of /checkResults/3.17/bioc-LATEST/qrqc/raw-results/merida1
Name
Last modified
Size
Description
Parent Directory
-
buildsrc-out.txt
17-Oct-2023 00:37
4.9K
buildsrc-summary.dcf
17-Oct-2023 00:37
336
install-out.txt
17-Oct-2023 00:37
4.7K
install-summary.dcf
17-Oct-2023 00:37
265