Index of /checkResults/3.17/bioc-LATEST/qrqc/raw-results

[ICO]NameLast modifiedSizeDescription

[DIR]Parent Directory  -  
[   ]info.dcf17-Oct-2023 00:37 267  
[DIR]palomino3/17-Oct-2023 00:36 -  
[DIR]nebbiolo1/17-Oct-2023 00:35 -  
[DIR]merida1/17-Oct-2023 00:37 -