Index of /checkResults/3.17/bioc-LATEST/qckitfastq/raw-results/palomino3
Name
Last modified
Size
Description
Parent Directory
-
buildsrc-out.txt
17-Oct-2023 00:36
2.6K
buildsrc-summary.dcf
17-Oct-2023 00:36
377
install-out.txt
17-Oct-2023 00:36
3.3K
install-summary.dcf
17-Oct-2023 00:36
274