Name | Last modified | Size | Description | |
---|---|---|---|---|
Parent Directory | - | |||
install-out.txt | 17-Oct-2023 00:37 | 6.6K | ||
install-summary.dcf | 17-Oct-2023 00:37 | 264 | ||
buildsrc-out.txt | 17-Oct-2023 00:37 | 1.0K | ||
buildsrc-summary.dcf | 17-Oct-2023 00:37 | 419 | ||
checksrc-out.txt | 17-Oct-2023 00:37 | 14K | ||
checksrc-summary.dcf | 17-Oct-2023 00:37 | 438 | ||
buildbin-out.txt | 17-Oct-2023 00:37 | 8.4K | ||
buildbin-summary.dcf | 17-Oct-2023 00:37 | 513 | ||