Name | Last modified | Size | Description | |
---|---|---|---|---|
Parent Directory | - | |||
install-summary.dcf | 17-Oct-2023 00:36 | 275 | ||
install-out.txt | 17-Oct-2023 00:36 | 2.5K | ||
checksrc-summary.dcf | 17-Oct-2023 00:36 | 465 | ||
checksrc-out.txt | 17-Oct-2023 00:36 | 4.6K | ||
buildsrc-summary.dcf | 17-Oct-2023 00:36 | 465 | ||
buildsrc-out.txt | 17-Oct-2023 00:36 | 923 | ||
buildbin-summary.dcf | 17-Oct-2023 00:36 | 534 | ||
buildbin-out.txt | 17-Oct-2023 00:36 | 2.7K | ||