Index of /checkResults/3.17/bioc-LATEST/proFIA/raw-results/palomino3
Name
Last modified
Size
Description
Parent Directory
-
install-out.txt
17-Oct-2023 00:36
2.1K
install-summary.dcf
17-Oct-2023 00:36
266
buildsrc-out.txt
17-Oct-2023 00:36
1.1K
buildsrc-summary.dcf
17-Oct-2023 00:36
365