Index of /checkResults/3.17/bioc-LATEST/proFIA/raw-results/merida1
Name
Last modified
Size
Description
Parent Directory
-
install-summary.dcf
17-Oct-2023 00:37
268
buildsrc-summary.dcf
17-Oct-2023 00:37
342
buildsrc-out.txt
17-Oct-2023 00:37
1.1K
install-out.txt
17-Oct-2023 00:37
2.3K