Name | Last modified | Size | Description | |
---|---|---|---|---|
Parent Directory | - | |||
buildbin-out.txt | 17-Oct-2023 00:37 | 4.7K | ||
buildbin-summary.dcf | 17-Oct-2023 00:37 | 558 | ||
buildsrc-out.txt | 17-Oct-2023 00:37 | 928 | ||
buildsrc-summary.dcf | 17-Oct-2023 00:37 | 441 | ||
checksrc-out.txt | 17-Oct-2023 00:37 | 3.9K | ||
checksrc-summary.dcf | 17-Oct-2023 00:37 | 462 | ||
install-out.txt | 17-Oct-2023 00:37 | 2.5K | ||
install-summary.dcf | 17-Oct-2023 00:37 | 279 | ||