Index of /checkResults/3.17/bioc-LATEST/pipeComp/raw-results
Name
Last modified
Size
Description
Parent Directory
-
merida1/
17-Oct-2023 00:37
-
info.dcf
17-Oct-2023 00:37
290
palomino3/
17-Oct-2023 00:36
-
nebbiolo1/
17-Oct-2023 00:35
-