![]() | Name | Last modified | Size | Description |
---|---|---|---|---|
![]() | Parent Directory | - | ||
![]() | buildbin-out.txt | 17-Oct-2023 00:36 | 1.1K | |
![]() | buildbin-summary.dcf | 17-Oct-2023 00:36 | 533 | |
![]() | buildsrc-out.txt | 17-Oct-2023 00:36 | 854 | |
![]() | buildsrc-summary.dcf | 17-Oct-2023 00:36 | 464 | |
![]() | checksrc-out.txt | 17-Oct-2023 00:36 | 5.5K | |
![]() | checksrc-summary.dcf | 17-Oct-2023 00:36 | 459 | |
![]() | install-out.txt | 17-Oct-2023 00:36 | 971 | |
![]() | install-summary.dcf | 17-Oct-2023 00:36 | 274 | |