Name | Last modified | Size | Description | |
---|---|---|---|---|
Parent Directory | - | |||
install-out.txt | 17-Oct-2023 00:36 | 2.4K | ||
install-summary.dcf | 17-Oct-2023 00:36 | 267 | ||
buildsrc-out.txt | 17-Oct-2023 00:36 | 926 | ||
buildsrc-summary.dcf | 17-Oct-2023 00:36 | 448 | ||
checksrc-out.txt | 17-Oct-2023 00:36 | 5.5K | ||
checksrc-summary.dcf | 17-Oct-2023 00:36 | 443 | ||
buildbin-out.txt | 17-Oct-2023 00:36 | 2.5K | ||
buildbin-summary.dcf | 17-Oct-2023 00:36 | 510 | ||