Name | Last modified | Size | Description | |
---|---|---|---|---|
Parent Directory | - | |||
buildsrc-out.txt | 17-Oct-2023 00:35 | 843 | ||
buildsrc-summary.dcf | 17-Oct-2023 00:35 | 421 | ||
checksrc-out.txt | 17-Oct-2023 00:35 | 3.6K | ||
checksrc-summary.dcf | 17-Oct-2023 00:35 | 419 | ||
install-out.txt | 17-Oct-2023 00:35 | 4.5K | ||
install-summary.dcf | 17-Oct-2023 00:35 | 262 | ||