![]() | Name | Last modified | Size | Description |
---|---|---|---|---|
![]() | Parent Directory | - | ||
![]() | buildbin-out.txt | 28-Sep-2023 00:36 | 1.1K | |
![]() | buildbin-summary.dcf | 28-Sep-2023 00:36 | 530 | |
![]() | buildsrc-out.txt | 28-Sep-2023 00:36 | 890 | |
![]() | buildsrc-summary.dcf | 28-Sep-2023 00:36 | 463 | |
![]() | checksrc-out.txt | 28-Sep-2023 00:36 | 3.1K | |
![]() | checksrc-summary.dcf | 28-Sep-2023 00:36 | 457 | |
![]() | install-out.txt | 28-Sep-2023 00:36 | 1.0K | |
![]() | install-summary.dcf | 28-Sep-2023 00:36 | 273 | |