![]() | Name | Last modified | Size | Description |
---|---|---|---|---|
![]() | Parent Directory | - | ||
![]() | install-out.txt | 17-Oct-2023 00:35 | 1.0K | |
![]() | install-summary.dcf | 17-Oct-2023 00:35 | 264 | |
![]() | buildsrc-out.txt | 17-Oct-2023 00:35 | 857 | |
![]() | buildsrc-summary.dcf | 17-Oct-2023 00:35 | 425 | |
![]() | checksrc-out.txt | 17-Oct-2023 00:35 | 3.5K | |
![]() | checksrc-summary.dcf | 17-Oct-2023 00:35 | 424 | |