Index of /checkResults/3.17/bioc-LATEST/nullranges/raw-results/nebbiolo1

[ICO]NameLast modifiedSizeDescription

[DIR]Parent Directory  -  
[TXT]buildsrc-out.txt26-Sep-2023 00:35 857  
[   ]buildsrc-summary.dcf26-Sep-2023 00:35 425  
[TXT]checksrc-out.txt26-Sep-2023 00:35 3.5K 
[   ]checksrc-summary.dcf26-Sep-2023 00:35 424  
[TXT]install-out.txt26-Sep-2023 00:35 1.0K 
[   ]install-summary.dcf26-Sep-2023 00:35 264