Index of /checkResults/3.17/bioc-LATEST/nullranges/raw-results
Name
Last modified
Size
Description
Parent Directory
-
info.dcf
01-Oct-2023 00:37
283
merida1/
01-Oct-2023 00:37
-
nebbiolo1/
01-Oct-2023 00:35
-
palomino3/
01-Oct-2023 00:36
-