Name | Last modified | Size | Description | |
---|---|---|---|---|
Parent Directory | - | |||
buildbin-out.txt | 17-Oct-2023 00:37 | 16K | ||
buildbin-summary.dcf | 17-Oct-2023 00:37 | 534 | ||
buildsrc-out.txt | 17-Oct-2023 00:37 | 897 | ||
buildsrc-summary.dcf | 17-Oct-2023 00:37 | 429 | ||
checksrc-out.txt | 17-Oct-2023 00:37 | 5.3K | ||
checksrc-summary.dcf | 17-Oct-2023 00:37 | 452 | ||
install-out.txt | 17-Oct-2023 00:37 | 14K | ||
install-summary.dcf | 17-Oct-2023 00:37 | 271 | ||