Name | Last modified | Size | Description | |
---|---|---|---|---|
Parent Directory | - | |||
buildbin-out.txt | 13-Jun-2023 01:02 | 1.1K | ||
buildbin-summary.dcf | 13-Jun-2023 01:02 | 519 | ||
buildsrc-out.txt | 17-Oct-2023 00:37 | 1.2K | ||
buildsrc-summary.dcf | 17-Oct-2023 00:37 | 340 | ||
checksrc-out.txt | 13-Jun-2023 01:02 | 4.7K | ||
checksrc-summary.dcf | 13-Jun-2023 01:02 | 437 | ||
install-out.txt | 17-Oct-2023 00:37 | 1.0K | ||
install-summary.dcf | 17-Oct-2023 00:37 | 265 | ||