Name | Last modified | Size | Description | |
---|---|---|---|---|
Parent Directory | - | |||
install-out.txt | 17-Oct-2023 00:35 | 5.7K | ||
install-summary.dcf | 17-Oct-2023 00:35 | 261 | ||
buildsrc-out.txt | 17-Oct-2023 00:35 | 840 | ||
buildsrc-summary.dcf | 17-Oct-2023 00:35 | 418 | ||
checksrc-out.txt | 17-Oct-2023 00:35 | 6.4K | ||
checksrc-summary.dcf | 17-Oct-2023 00:35 | 423 | ||