Name | Last modified | Size | Description | |
---|---|---|---|---|
Parent Directory | - | |||
install-out.txt | 17-Oct-2023 00:37 | 3.3K | ||
install-summary.dcf | 17-Oct-2023 00:37 | 271 | ||
buildsrc-out.txt | 17-Oct-2023 00:37 | 850 | ||
buildsrc-summary.dcf | 17-Oct-2023 00:37 | 430 | ||
checksrc-out.txt | 17-Oct-2023 00:37 | 6.5K | ||
checksrc-summary.dcf | 17-Oct-2023 00:37 | 454 | ||
buildbin-out.txt | 17-Oct-2023 00:37 | 5.7K | ||
buildbin-summary.dcf | 17-Oct-2023 00:37 | 535 | ||