Name | Last modified | Size | Description | |
---|---|---|---|---|
Parent Directory | - | |||
install-summary.dcf | 17-Oct-2023 00:35 | 261 | ||
checksrc-summary.dcf | 17-Oct-2023 00:35 | 418 | ||
buildsrc-summary.dcf | 17-Oct-2023 00:35 | 421 | ||
buildsrc-out.txt | 17-Oct-2023 00:35 | 810 | ||
install-out.txt | 17-Oct-2023 00:35 | 1.0K | ||
checksrc-out.txt | 17-Oct-2023 00:35 | 3.5K | ||