Name | Last modified | Size | Description | |
---|---|---|---|---|
Parent Directory | - | |||
buildbin-summary.dcf | 17-Oct-2023 00:36 | 539 | ||
buildbin-out.txt | 17-Oct-2023 00:36 | 13K | ||
checksrc-summary.dcf | 17-Oct-2023 00:36 | 463 | ||
checksrc-out.txt | 17-Oct-2023 00:36 | 4.5K | ||
buildsrc-summary.dcf | 17-Oct-2023 00:36 | 469 | ||
buildsrc-out.txt | 17-Oct-2023 00:36 | 1.1K | ||
install-summary.dcf | 17-Oct-2023 00:36 | 276 | ||
install-out.txt | 17-Oct-2023 00:36 | 13K | ||