Name | Last modified | Size | Description | |
---|---|---|---|---|
Parent Directory | - | |||
install-summary.dcf | 17-Oct-2023 00:36 | 265 | ||
install-out.txt | 17-Oct-2023 00:36 | 1.1K | ||
checksrc-summary.dcf | 17-Oct-2023 00:36 | 441 | ||
checksrc-out.txt | 17-Oct-2023 00:36 | 3.5K | ||
buildsrc-summary.dcf | 17-Oct-2023 00:36 | 446 | ||
buildsrc-out.txt | 17-Oct-2023 00:36 | 893 | ||
buildbin-summary.dcf | 17-Oct-2023 00:36 | 506 | ||
buildbin-out.txt | 17-Oct-2023 00:36 | 1.3K | ||