![]() | Name | Last modified | Size | Description |
---|---|---|---|---|
![]() | Parent Directory | - | ||
![]() | install-summary.dcf | 17-Oct-2023 00:35 | 255 | |
![]() | install-out.txt | 17-Oct-2023 00:35 | 946 | |
![]() | buildsrc-out.txt | 17-Oct-2023 00:35 | 838 | |
![]() | buildsrc-summary.dcf | 17-Oct-2023 00:35 | 411 | |
![]() | checksrc-out.txt | 17-Oct-2023 00:35 | 3.9K | |
![]() | checksrc-summary.dcf | 17-Oct-2023 00:35 | 406 | |