![]() | Name | Last modified | Size | Description |
---|---|---|---|---|
![]() | Parent Directory | - | ||
![]() | install-summary.dcf | 17-Oct-2023 00:37 | 266 | |
![]() | buildsrc-summary.dcf | 17-Oct-2023 00:37 | 422 | |
![]() | checksrc-summary.dcf | 17-Oct-2023 00:37 | 437 | |
![]() | buildbin-summary.dcf | 17-Oct-2023 00:37 | 519 | |
![]() | buildsrc-out.txt | 17-Oct-2023 00:37 | 848 | |
![]() | install-out.txt | 17-Oct-2023 00:37 | 1.0K | |
![]() | buildbin-out.txt | 17-Oct-2023 00:37 | 1.1K | |
![]() | checksrc-out.txt | 17-Oct-2023 00:37 | 4.4K | |